BEGIN:VCALENDAR
VERSION:2.0
PRODID:-//Euromarque Motorsport Park - Ruapuna - ECPv6.15.16//NONSGML v1.0//EN
CALSCALE:GREGORIAN
METHOD:PUBLISH
X-WR-CALNAME:Euromarque Motorsport Park - Ruapuna
X-ORIGINAL-URL:https://www.ruapuna.co.nz
X-WR-CALDESC:Events for Euromarque Motorsport Park - Ruapuna
REFRESH-INTERVAL;VALUE=DURATION:PT1H
X-Robots-Tag:noindex
X-PUBLISHED-TTL:PT1H
BEGIN:VTIMEZONE
TZID:UTC
BEGIN:STANDARD
TZOFFSETFROM:+0000
TZOFFSETTO:+0000
TZNAME:UTC
DTSTART:20240101T000000
END:STANDARD
END:VTIMEZONE
BEGIN:VEVENT
DTSTART;TZID=UTC:20251018T080000
DTEND;TZID=UTC:20251018T170000
DTSTAMP:20260424T012729
CREATED:20250731T003221Z
LAST-MODIFIED:20250731T003256Z
UID:1804-1760774400-1760806800@www.ruapuna.co.nz
SUMMARY:CAMS
DESCRIPTION:
URL:https://www.ruapuna.co.nz/event/cams/
LOCATION:Euromarque Motorsport Park\, 107 Hasketts Rd\, Christchurch\, Canterbury\, New Zealand
CATEGORIES:Motorcycle Racing
END:VEVENT
BEGIN:VEVENT
DTSTART;TZID=UTC:20251012T080000
DTEND;TZID=UTC:20251012T170000
DTSTAMP:20260424T012729
CREATED:20250731T002459Z
LAST-MODIFIED:20250731T003314Z
UID:1795-1760256000-1760288400@www.ruapuna.co.nz
SUMMARY:BEARS
DESCRIPTION:
URL:https://www.ruapuna.co.nz/event/bears-2/
LOCATION:Euromarque Motorsport Park\, 107 Hasketts Rd\, Christchurch\, Canterbury\, New Zealand
CATEGORIES:Motorcycle Racing
END:VEVENT
BEGIN:VEVENT
DTSTART;TZID=UTC:20251011T080000
DTEND;TZID=UTC:20251011T170000
DTSTAMP:20260424T012729
CREATED:20250731T002210Z
LAST-MODIFIED:20250731T003333Z
UID:1789-1760169600-1760202000@www.ruapuna.co.nz
SUMMARY:Motorcycling Canterbury
DESCRIPTION:
URL:https://www.ruapuna.co.nz/event/motorcycling-canterbury-2/
LOCATION:Euromarque Motorsport Park\, 107 Hasketts Rd\, Christchurch\, Canterbury\, New Zealand
CATEGORIES:Motorcycle Racing
END:VEVENT
BEGIN:VEVENT
DTSTART;TZID=UTC:20250627T090000
DTEND;TZID=UTC:20250627T170000
DTSTAMP:20260424T012729
CREATED:20250204T223219Z
LAST-MODIFIED:20250204T223225Z
UID:1292-1751014800-1751043600@www.ruapuna.co.nz
SUMMARY:Test Day
DESCRIPTION:
URL:https://www.ruapuna.co.nz/event/test-day-2-2-2-2-2-2-2-2-2/
LOCATION:Euromarque Motorsport Park\, 107 Hasketts Rd\, Christchurch\, Canterbury\, New Zealand
CATEGORIES:Canterbury Car Club,Motorcycle Racing
END:VEVENT
BEGIN:VEVENT
DTSTART;TZID=UTC:20250615T080000
DTEND;TZID=UTC:20250615T170000
DTSTAMP:20260424T012729
CREATED:20250204T224152Z
LAST-MODIFIED:20250204T224152Z
UID:1337-1749974400-1750006800@www.ruapuna.co.nz
SUMMARY:BEARS Motorcycle Racing
DESCRIPTION:
URL:https://www.ruapuna.co.nz/event/bears-motorcycle-racing-2-2/
LOCATION:Euromarque Motorsport Park\, 107 Hasketts Rd\, Christchurch\, Canterbury\, New Zealand
CATEGORIES:Motorcycle Racing
END:VEVENT
BEGIN:VEVENT
DTSTART;TZID=UTC:20250613T090000
DTEND;TZID=UTC:20250613T170000
DTSTAMP:20260424T012729
CREATED:20250204T223202Z
LAST-MODIFIED:20250204T223202Z
UID:1289-1749805200-1749834000@www.ruapuna.co.nz
SUMMARY:Test Day
DESCRIPTION:
URL:https://www.ruapuna.co.nz/event/test-day-2-2-2-2-2-2-2-2/
LOCATION:Euromarque Motorsport Park\, 107 Hasketts Rd\, Christchurch\, Canterbury\, New Zealand
CATEGORIES:Canterbury Car Club,Motorcycle Racing
END:VEVENT
END:VCALENDAR