BEGIN:VCALENDAR
VERSION:2.0
PRODID:-//Euromarque Motorsport Park - Ruapuna - ECPv6.15.16//NONSGML v1.0//EN
CALSCALE:GREGORIAN
METHOD:PUBLISH
X-ORIGINAL-URL:https://www.ruapuna.co.nz
X-WR-CALDESC:Events for Euromarque Motorsport Park - Ruapuna
REFRESH-INTERVAL;VALUE=DURATION:PT1H
X-Robots-Tag:noindex
X-PUBLISHED-TTL:PT1H
BEGIN:VTIMEZONE
TZID:UTC
BEGIN:STANDARD
TZOFFSETFROM:+0000
TZOFFSETTO:+0000
TZNAME:UTC
DTSTART:20250101T000000
END:STANDARD
END:VTIMEZONE
BEGIN:VEVENT
DTSTART;TZID=UTC:20260314T080000
DTEND;TZID=UTC:20260314T170000
DTSTAMP:20260424T012801
CREATED:20250912T032253Z
LAST-MODIFIED:20250912T032253Z
UID:2000-1773475200-1773507600@www.ruapuna.co.nz
SUMMARY:CAMS Motorcycle Racing
DESCRIPTION:
URL:https://www.ruapuna.co.nz/event/cams-motorcycle-racing-3/
LOCATION:Euromarque Motorsport Park\, 107 Hasketts Rd\, Christchurch\, Canterbury\, New Zealand
CATEGORIES:Motorcycle Racing
END:VEVENT
BEGIN:VEVENT
DTSTART;TZID=UTC:20260321T080000
DTEND;TZID=UTC:20260321T170000
DTSTAMP:20260424T012801
CREATED:20250912T032347Z
LAST-MODIFIED:20250912T032347Z
UID:2006-1774080000-1774112400@www.ruapuna.co.nz
SUMMARY:Motorcycling Canterbury Have a Go Day
DESCRIPTION:
URL:https://www.ruapuna.co.nz/event/motorcycling-canterbury-have-a-go-day-2/
LOCATION:Euromarque Motorsport Park\, 107 Hasketts Rd\, Christchurch\, Canterbury\, New Zealand
CATEGORIES:Motorcycle Racing,Track Day
END:VEVENT
BEGIN:VEVENT
DTSTART;TZID=UTC:20260329T080000
DTEND;TZID=UTC:20260329T170000
DTSTAMP:20260424T012801
CREATED:20250912T032606Z
LAST-MODIFIED:20250912T032606Z
UID:2018-1774771200-1774803600@www.ruapuna.co.nz
SUMMARY:Motorcycling Canterbury Racing
DESCRIPTION:
URL:https://www.ruapuna.co.nz/event/motorcycling-canterbury-racing-2/
LOCATION:Euromarque Motorsport Park\, 107 Hasketts Rd\, Christchurch\, Canterbury\, New Zealand
CATEGORIES:Motorcycle Racing
END:VEVENT
END:VCALENDAR