BEGIN:VCALENDAR
VERSION:2.0
PRODID:-//Euromarque Motorsport Park - Ruapuna - ECPv6.15.16//NONSGML v1.0//EN
CALSCALE:GREGORIAN
METHOD:PUBLISH
X-ORIGINAL-URL:https://www.ruapuna.co.nz
X-WR-CALDESC:Events for Euromarque Motorsport Park - Ruapuna
REFRESH-INTERVAL;VALUE=DURATION:PT1H
X-Robots-Tag:noindex
X-PUBLISHED-TTL:PT1H
BEGIN:VTIMEZONE
TZID:UTC
BEGIN:STANDARD
TZOFFSETFROM:+0000
TZOFFSETTO:+0000
TZNAME:UTC
DTSTART:20250101T000000
END:STANDARD
END:VTIMEZONE
BEGIN:VEVENT
DTSTART;TZID=UTC:20260130T080000
DTEND;TZID=UTC:20260201T170000
DTSTAMP:20260424T024244
CREATED:20250912T030931Z
LAST-MODIFIED:20250912T030931Z
UID:1970-1769760000-1769965200@www.ruapuna.co.nz
SUMMARY:Motorcycling NZ Championships
DESCRIPTION:
URL:https://www.ruapuna.co.nz/event/motorcycling-nz-championships/
LOCATION:Euromarque Motorsport Park\, 107 Hasketts Rd\, Christchurch\, Canterbury\, New Zealand
CATEGORIES:Motorcycle Racing
END:VEVENT
BEGIN:VEVENT
DTSTART;TZID=UTC:20260214T080000
DTEND;TZID=UTC:20260214T170000
DTSTAMP:20260424T024244
CREATED:20250912T031826Z
LAST-MODIFIED:20250912T031826Z
UID:1982-1771056000-1771088400@www.ruapuna.co.nz
SUMMARY:CAMS Motorcycle Racing
DESCRIPTION:
URL:https://www.ruapuna.co.nz/event/cams-motorcycle-racing-2/
LOCATION:Euromarque Motorsport Park\, 107 Hasketts Rd\, Christchurch\, Canterbury\, New Zealand
CATEGORIES:Motorcycle Racing
END:VEVENT
BEGIN:VEVENT
DTSTART;TZID=UTC:20260220T080000
DTEND;TZID=UTC:20260222T170000
DTSTAMP:20260424T024244
CREATED:20250912T032015Z
LAST-MODIFIED:20250912T032015Z
UID:1988-1771574400-1771779600@www.ruapuna.co.nz
SUMMARY:BEARS - Sound of Thunder
DESCRIPTION:
URL:https://www.ruapuna.co.nz/event/bears-sound-of-thunder/
LOCATION:Euromarque Motorsport Park\, 107 Hasketts Rd\, Christchurch\, Canterbury\, New Zealand
CATEGORIES:Motorcycle Racing
END:VEVENT
END:VCALENDAR