BEGIN:VCALENDAR
VERSION:2.0
PRODID:-//Euromarque Motorsport Park - Ruapuna - ECPv6.15.16//NONSGML v1.0//EN
CALSCALE:GREGORIAN
METHOD:PUBLISH
X-ORIGINAL-URL:https://www.ruapuna.co.nz
X-WR-CALDESC:Events for Euromarque Motorsport Park - Ruapuna
REFRESH-INTERVAL;VALUE=DURATION:PT1H
X-Robots-Tag:noindex
X-PUBLISHED-TTL:PT1H
BEGIN:VTIMEZONE
TZID:UTC
BEGIN:STANDARD
TZOFFSETFROM:+0000
TZOFFSETTO:+0000
TZNAME:UTC
DTSTART:20240101T000000
END:STANDARD
END:VTIMEZONE
BEGIN:VEVENT
DTSTART;TZID=UTC:20251102T080000
DTEND;TZID=UTC:20251102T170000
DTSTAMP:20260424T055221
CREATED:20250731T012513Z
LAST-MODIFIED:20250731T012513Z
UID:1835-1762070400-1762102800@www.ruapuna.co.nz
SUMMARY:BEARS
DESCRIPTION:
URL:https://www.ruapuna.co.nz/event/bears-3/
LOCATION:Euromarque Motorsport Park\, 107 Hasketts Rd\, Christchurch\, Canterbury\, New Zealand
CATEGORIES:Motorcycle Racing
END:VEVENT
BEGIN:VEVENT
DTSTART;TZID=UTC:20251109T080000
DTEND;TZID=UTC:20251109T170000
DTSTAMP:20260424T055221
CREATED:20250731T025659Z
LAST-MODIFIED:20250731T025659Z
UID:1845-1762675200-1762707600@www.ruapuna.co.nz
SUMMARY:Motorcycling Canterbury
DESCRIPTION:
URL:https://www.ruapuna.co.nz/event/motorcycling-canterbury-3/
LOCATION:Euromarque Motorsport Park\, 107 Hasketts Rd\, Christchurch\, Canterbury\, New Zealand
CATEGORIES:Motorcycle Racing
END:VEVENT
END:VCALENDAR